BEGIN:VCALENDAR
VERSION:2.0
PRODID:-//Rachael McCampbell, Artist - ECPv6.15.20//NONSGML v1.0//EN
CALSCALE:GREGORIAN
METHOD:PUBLISH
X-ORIGINAL-URL:https://rachaelmccampbell.com
X-WR-CALDESC:Events for Rachael McCampbell, Artist
REFRESH-INTERVAL;VALUE=DURATION:PT1H
X-Robots-Tag:noindex
X-PUBLISHED-TTL:PT1H
BEGIN:VTIMEZONE
TZID:America/Chicago
BEGIN:DAYLIGHT
TZOFFSETFROM:-0600
TZOFFSETTO:-0500
TZNAME:CDT
DTSTART:20240310T080000
END:DAYLIGHT
BEGIN:STANDARD
TZOFFSETFROM:-0500
TZOFFSETTO:-0600
TZNAME:CST
DTSTART:20241103T070000
END:STANDARD
BEGIN:DAYLIGHT
TZOFFSETFROM:-0600
TZOFFSETTO:-0500
TZNAME:CDT
DTSTART:20250309T080000
END:DAYLIGHT
BEGIN:STANDARD
TZOFFSETFROM:-0500
TZOFFSETTO:-0600
TZNAME:CST
DTSTART:20251102T070000
END:STANDARD
BEGIN:DAYLIGHT
TZOFFSETFROM:-0600
TZOFFSETTO:-0500
TZNAME:CDT
DTSTART:20260308T080000
END:DAYLIGHT
BEGIN:STANDARD
TZOFFSETFROM:-0500
TZOFFSETTO:-0600
TZNAME:CST
DTSTART:20261101T070000
END:STANDARD
BEGIN:DAYLIGHT
TZOFFSETFROM:-0600
TZOFFSETTO:-0500
TZNAME:CDT
DTSTART:20270314T080000
END:DAYLIGHT
BEGIN:STANDARD
TZOFFSETFROM:-0500
TZOFFSETTO:-0600
TZNAME:CST
DTSTART:20271107T070000
END:STANDARD
END:VTIMEZONE
BEGIN:VTIMEZONE
TZID:America/New_York
BEGIN:DAYLIGHT
TZOFFSETFROM:-0500
TZOFFSETTO:-0400
TZNAME:EDT
DTSTART:20230312T070000
END:DAYLIGHT
BEGIN:STANDARD
TZOFFSETFROM:-0400
TZOFFSETTO:-0500
TZNAME:EST
DTSTART:20231105T060000
END:STANDARD
BEGIN:DAYLIGHT
TZOFFSETFROM:-0500
TZOFFSETTO:-0400
TZNAME:EDT
DTSTART:20240310T070000
END:DAYLIGHT
BEGIN:STANDARD
TZOFFSETFROM:-0400
TZOFFSETTO:-0500
TZNAME:EST
DTSTART:20241103T060000
END:STANDARD
BEGIN:DAYLIGHT
TZOFFSETFROM:-0500
TZOFFSETTO:-0400
TZNAME:EDT
DTSTART:20250309T070000
END:DAYLIGHT
BEGIN:STANDARD
TZOFFSETFROM:-0400
TZOFFSETTO:-0500
TZNAME:EST
DTSTART:20251102T060000
END:STANDARD
BEGIN:DAYLIGHT
TZOFFSETFROM:-0500
TZOFFSETTO:-0400
TZNAME:EDT
DTSTART:20260308T070000
END:DAYLIGHT
BEGIN:STANDARD
TZOFFSETFROM:-0400
TZOFFSETTO:-0500
TZNAME:EST
DTSTART:20261101T060000
END:STANDARD
BEGIN:DAYLIGHT
TZOFFSETFROM:-0500
TZOFFSETTO:-0400
TZNAME:EDT
DTSTART:20270314T070000
END:DAYLIGHT
BEGIN:STANDARD
TZOFFSETFROM:-0400
TZOFFSETTO:-0500
TZNAME:EST
DTSTART:20271107T060000
END:STANDARD
END:VTIMEZONE
BEGIN:VEVENT
DTSTART;TZID=America/Chicago:20260410T090000
DTEND;TZID=America/Chicago:20260411T160000
DTSTAMP:20260423T081055
CREATED:20251126T024927Z
LAST-MODIFIED:20260310T162845Z
UID:10000033-1775811600-1775923200@rachaelmccampbell.com
SUMMARY:An Art Business Retreat with Alyson Stanfield
DESCRIPTION:I’m sorry\, but this retreat has been canceled\nMake It Happen: Your Art Biz Retreat\nA 2-day\, in-person retreat to focus on what matters most in your art business\nApril 10-11\, 2026\, 9am to 4pm each day at the invitation of McCampbell Art Studio and Workshop Center\, Centerville\, Tennessee \nIf you’re feeling scattered or stuck—or just know you’re capable of more—it’s time to step away from the distractions and spend focused time working on your art business with expert guidance and a room full of supportive\, driven artists. Join Alyson Stanfield for a hands-on\, interactive retreat designed to help you create clarity\, build momentum\, and move forward with confidence. \nThis is for you if …\n\nYou are ready to (or already do) treat your business with the same intention and care you bring to their creative work.\nYou have some experience under your belt. Suggested: a solid body of work\, a mailing list\, a few shows under your belt\, and some experience trying to sell your art.\nYou’re open to possibilities.\nYou are ready to grow\, contribute\, and take action.\n\nCome prepared to roll up your sleeves and focus. You are not going to be sitting through a stack of slides or passively soaking up advice. \n \nMake It Happen: Your Art Biz Retreat is a working experience. You’ll be guided through Alyson’s proven structure for thinking strategically\, identifying your priorities\, and creating a plan you can actually implement. You’ll benefit not only from her 20+ years of helping artists grow thriving businesses\, but also from the insight and generosity of other experienced artists in the room. Together\, we’ll think bigger\, find clarity\, and chart our direction. Alyson says she “teaches to the room.” She comes prepared with training topics\, but is also adept at (and insists on) adjusting to what students need. Your needs are more important than her agenda. \nOver our 2 days together\, you will:\n\nIdentify what’s working—and what’s not—in your art business\nClarify your short-term goals and define your next steps\nRefine your marketing strategy\nStrengthen your offers and income streams\nCreate a simple\, sustainable plan for the next 90 days\nLearn from other artists’ experiences (and share your own)\nReceive direct support and feedback from Alyson\n\nDay 1: Clarify + Expand \nStep back from the daily hustle to look at your art business with fresh eyes. Through guided teaching and small-group discussions\, you’ll reflect on what’s working\, uncover opportunities\, and reconnect with your long-term vision. You’ll leave the day with a clear sense of direction and a renewed commitment to what matters most. \nDay 2: Focus + Commit \nNow that the big-picture thinking is done\, it’s time to narrow in. You’ll prioritize your next steps\, sketch out a doable 90+-day plan\, and get feedback to strengthen it. The day ends with clear commitments\, peer support\, and the confidence to move forward with purpose. You don’t need more information. You need space to think\, structure to guide you\, and support to move forward. \nReserve your seat at Make It Happen: Your Art Biz Retreat and give your business the focused attention it deserves. $350 for two full days \nRegister Now \n \nAbout Alyson\nAlyson Stanfield is an artist advocate\, workshop leader\, art historian\, and business coach who has helped thousands of artists elevate their careers and amplify their impact. As the host of The Art Biz podcast and author of I’d Rather Be in the Studio! The Artist’s No-Excuse Guide to Self-Promotion\, she leads Art Biz Success\, a dynamic learning community for ambitious artists ready to take control of their marketing\, sales\, and visibility. Before launching Art Biz Success in 2002\, Alyson spent a decade as a curator and educator in art museums\, an experience that still shapes her approach today. \nRead or listen to Alyson’s 4 Core Beliefs That Lead to Art Business Success.
URL:https://rachaelmccampbell.com/event/alyson-stanfield-art-biz-coaching-workshop/
LOCATION:McCampbell Art Studio\, 208 E. Public Square\, Centerville\, TN\, 37033
CATEGORIES:Guest Artist Workshops,GUEST INSTRUCTOR WORKSHOP SERIES
ATTACH;FMTTYPE=image/jpeg:https://rachaelmccampbell.com/wp-content/uploads/2025/07/channels4_profile.jpg
END:VEVENT
BEGIN:VEVENT
DTSTART;TZID=America/New_York:20260306T090000
DTEND;TZID=America/New_York:20260308T170000
DTSTAMP:20260423T081055
CREATED:20250718T163707Z
LAST-MODIFIED:20250812T142904Z
UID:10000022-1772787600-1772989200@rachaelmccampbell.com
SUMMARY:Cold Wax Medium/Oil on Paper Workshop\, Centerville\, TN
DESCRIPTION:Cold Wax on paper by Rachael McCampbell \n  Join Rachael McCampbell for a 3-Day workshop learning about Cold Wax Medium mixed with oil paint to create fresh\, multilayered paintings. Rachael will lead you through the whole process beginning with a Powerpoint to explain how it can be successfully used. She will demonstrate how to use the supplies and will show you numerous methods on how to use this medium. She will discuss design basics like composition and color mixing as part of this class and Rachael will end the course by showing you how to mount and hang your works on paper so that you will have a beautiful piece of art to hang in your home at the end of the workshop. In this workshop\, Rachael will focus on painting on paper and very small wood panels.  This will be an intense learning experience mixed with lots of fun. \n\nFor those who say they can’t paint\, this class is for you!\nYou will paint immediately. Rachael leads you through a step-by-step process that makes it easy to succeed. Sign up now\, space is limited!\nAutumn Mystique\, Oil and cold wax on Arches Paper on panel\, 12 x 16″ by Rachael McCampbell © 2024 \n“Someone Else’s Memory\,” Oil and cold wax on paper and panel\, 12 h x 16″ w by Rachael McCampbell © 2024 \nCold Wax medium Triptych by Rachael McCampbell. \n\n\n\n\n\n\n\n\n\n\n 
URL:https://rachaelmccampbell.com/event/cold-wax-medium-oil-on-paper-workshop/
LOCATION:McCampbell Art Studio\, 208 E. Public Square\, Centerville\, TN\, 37033
CATEGORIES:My Workshops
ATTACH;FMTTYPE=image/jpeg:https://rachaelmccampbell.com/wp-content/uploads/2025/01/677c52f6b8c2c_autumns-mystique-.jpg
END:VEVENT
BEGIN:VEVENT
DTSTART;TZID=America/Chicago:20251008T080000
DTEND;TZID=America/Chicago:20251011T170000
DTSTAMP:20260423T081055
CREATED:20250106T161751Z
LAST-MODIFIED:20250812T141627Z
UID:10000012-1759910400-1760202000@rachaelmccampbell.com
SUMMARY:Guest Artist Douglas Fryer
DESCRIPTION:Douglas Fryer:  October 8-11\, 2025\, 4-Day Painting Workshop\nIn this 4-Day workshop\, you will be under the master tutelage of renowned Utah painter Douglas Fryer. This highly accomplished\, award-winning painter is generous to share his wealth of knowledge in his course: Painting with Purpose: Reimagining the Landscape. \nDoug will share with you how he conceives of and completes a painting. He will not only share how he works his magic to create landscapes that touch your soul\, but he will also discuss the philosophy behind his work and how to go deeper into your own practice. He will do several demos a day as a way of teaching the principles of painting. You don’t want to miss this opportunity to study under this highly esteemed artist. \nThe Cost of the workshop: $680.  3% added charge for credit cards. When you check out\, it automatically adds the 3% as you finish your payment with credit card.  OR\, You can pay either with Venmo to Rachael-McCampbell (see below for  QR code with no extra fees) or you can mail a bank check with no extra fees. \nContact Rachael McCampbell for more information. Email: rachael@rachaelmccampbell.com.  \nSupplies not included. After registering\, you will receive a supply list.  \nWEBSITE: Douglas Fryer. \nDouglas Fryer Workshop Flyer  \n\n \n\n \n\n\n \n 
URL:https://rachaelmccampbell.com/event/guest-artist-douglas-fryer/
LOCATION:McCampbell Art Studio\, 208 E. Public Square\, Centerville\, TN\, 37033
CATEGORIES:Guest Artist Workshops,GUEST INSTRUCTOR WORKSHOP SERIES
ATTACH;FMTTYPE=image/jpeg:https://rachaelmccampbell.com/wp-content/uploads/2025/01/Fryer-Promo-Photo-Color-scaled.jpg
END:VEVENT
BEGIN:VEVENT
DTSTART;TZID=America/New_York:20250606T090000
DTEND;TZID=America/New_York:20250608T170000
DTSTAMP:20260423T081055
CREATED:20241218T114349Z
LAST-MODIFIED:20250808T131020Z
UID:10000008-1749200400-1749402000@rachaelmccampbell.com
SUMMARY:Guest Artist David Boyd
DESCRIPTION:David Boyd: June 6-8th\, 2025\,  3-day Art Workshop:\n“Hunting and Gathering: Explorations in the Process of Making a Painting” \nAward winning artist David Boyd will be teaching both en Plein Air and in the studio. He will focus on observing the urban landscape or interiors depending on the weather. David has been…..\n\nThis class will be from 9-5 each day. David says:\nIn this 3-Day workshop\, artists will be hunting and gathering around town\, taking pictures\, doing small sketches and drawings while meditating on options for a larger piece. Artists will focus on  lights and shadows and being a spectator in a new environment before making any decisions on what to paint in the studio. \nDay 1 and the morning of Day 2: David will show you how he likes to gather information to create a larger oil painting. After that you will sketch\, draw\, photograph and explore our surroundings. David likes to do pen and ink drawings\, notan sketches\, small color studies and take photos. He ensures a variety of medium when gathering information… acrylic\, gouache and oil are some of his  favorites. \nDay 2 afternoon and Day 3: David will show you how he uses the images and sketches he has gathered to paint a larger studio piece that he will work on during the course of the day. Artists will start using the information they have gathered to create a larger finished piece. David will circulate around the studio helping individually and spending time on the larger painting. \nBring your lunch with you or order from the nearby restaurants in Centerville\, on or near the town square.\n\nThis workshop is held at McCampbell Art Studio\, LLC\, 208 East Public Square\, Centerville\, TN 37033. You will have your own table\, chair and easel. McCampbell will provide coffee and tea.\n\nCost of the workshop is $495. To hold your spot\, please send $100 and the remainder of $395 is due by May 8\, 2025. Note\, to pay with credit card\, there is an additional 3% charge. If you pay Rachael on Venmo\, or with check\, there is no extra charge. You can buy a ticket with your credit card through the events page button below.\n\nArt supplies are not included and a supply list will be provided upon registration. With any questions\, contact Rachael McCampbell at Email: rachael@rachaelmccampbell.com.\n\nTo Pay with Venmo below for no extra fees:\n\n 
URL:https://rachaelmccampbell.com/event/guest-artist-david-boyd/
LOCATION:McCampbell Art Studio\, 208 E. Public Square\, Centerville\, TN\, 37033
CATEGORIES:Guest Artist Workshops
ATTACH;FMTTYPE=image/jpeg:https://rachaelmccampbell.com/wp-content/uploads/2024/12/DavidBoyd.jpg
END:VEVENT
BEGIN:VEVENT
DTSTART;TZID=America/New_York:20250307T090000
DTEND;TZID=America/New_York:20250309T160000
DTSTAMP:20260423T081055
CREATED:20241218T105014Z
LAST-MODIFIED:20250313T232432Z
UID:10000007-1741338000-1741536000@rachaelmccampbell.com
SUMMARY:Guest Artist Yelena Lamm\, March 7-9\, 2025
DESCRIPTION:Come join us for a second Floral Painting 3-Day Workshop with award winning artist Yelena Lamm. She will teach part II of her first course she taught in 2024. She will cover how to create a successful composition of impressionistic floral arrangements and will go deeper into color mixing and brushstroke techniques. Yelena will share how she achieves such bright\, loosely painted flowers. This class will be held from 9-4 daily. \nBring your lunch with you or order from the nearby restaurants in Centerville on or near the town square. \nThis workshop is held at McCampbell Art Studio\, LLC\, 208 East Public Square\, Centerville\, TN 37033. You will have your own table\, chair and easel. McCampbell will provide coffee and tea. \nPayments:  \n$490 is due by February 15\, 2025 \nPay with Credit Card for Class : Full amount of $490 plus 3% fee=$504.70 \nOr\, pay with Venmo to me for no extra fee.  \n 
URL:https://rachaelmccampbell.com/event/guest-artist-yelena-lamm/
LOCATION:McCampbell Art Studio\, 208 E. Public Square\, Centerville\, TN\, 37033
CATEGORIES:Guest Artist Workshops
ATTACH;FMTTYPE=image/jpeg:https://rachaelmccampbell.com/wp-content/uploads/2024/12/YelenaLammInfrontofLowers.jpg
END:VEVENT
BEGIN:VEVENT
DTSTART;TZID=America/New_York:20241018T080000
DTEND;TZID=America/New_York:20241020T170000
DTSTAMP:20260423T081055
CREATED:20240903T155727Z
LAST-MODIFIED:20241126T201025Z
UID:10000006-1729238400-1729443600@rachaelmccampbell.com
SUMMARY:GUEST INSTRUCTOR WORKSHOP SERIES @ MCCAMPBELL ART STUDIOS
DESCRIPTION:I perhaps owe having become a painter to flowers.”     ~ Claude Monet \nI’m excited to have award-winning artist Yelena Lamm as a guest instructor at my new studio space for a 3-Day Workshop\, October 18-20\, 2024. She is going to demonstrate and teach how to master Floral Painting. This is a rare opportunity that you won’t want to miss! Class size is limited\, so contact as soon as you can to get on the list and pay your deposit to hold your spot. (See flyer)\nYelena is an amazingly accomplished artist. She has gained a tremendous following and has been included in many important exhibits over the year and won awards. Her loose\, brilliant approach to painting\, gives movement and life to whatever her subject may be–from florals to animals to figures. She will be painting from a flower still life – teaching composition\, design\, color mixing and other painting techniques. \nYelena’s Full Bio and CV:  YL_bio-CV_2024 \n \nArtist Bio: \nYelena Lamm was born in Saint Petersburg\, Russia\, and received formal art training from the N. K. Roerich Fine Arts School. Since 1995\, she has lived in Pittsburgh\, PA. \nYelena paints primarily in oil. She loves to reflect on her subjects’ characters and personalities in her lively and colorful portraits of pets and animals. Yelena recently joined the Society of Animal Artists and was immediately accepted as a signature member. \nYelena’s works were selected for and won awards in juried group exhibitions\, including Oil Painters of America (OPA)\, Society of Animal Artists (SAA)\, and National Oil and Acrylic Painters’ Society (NOAPS) national shows. She was a finalist in the 15th ARC Salon and a semi-finalist in the 16th ARC Salon. Her list of awards includes the recent Most Original Award of Excellence in OPA 2023 Eastern Regional Exhibition and Outstanding Achievement Animals in AWA 2023 Annual Online Juried Show. \nBritain’s most popular magazine for practicing artists\, Artists and Illustrators\, featured Yelena’s animal portraits in a 6-page article and on the cover of their June 2023 issue. Yelena’s works are represented by galleries and acquired by collectors in the U.S. and abroad. \nThis Workshop at McCampbell Art Studios\, in Centerville TN:  \nFlowers\, as artistic subjects\, offer an infinite variety in form and color\, carrying deep symbolic meanings\, evoking a wide range of emotions\, fostering a connection to nature\, and allowing for artistic freedom in terms of interpretation and style.  \n\nJoin Yelena for an immersive and vibrant 3-day workshop focused on painting flowers from life. This dynamic course will guide you through the essential techniques of alla-prima oil painting\, helping you to master your approach to composition\, color harmonies and values. You will work with a limited primary palette and have an option of expanding this palette to boost your skills creating rich\, cohesive artworks.  Explore your creativity and enhance your artistic abilities in this 3-day intensive. \n\n\nSome experience is recommended\, but beginners and first-time oil painters are welcome and encouraged to join. \n\n\nMaterials: \n\n\n•Surfaces: \n\nMinimum 3 stretched canvases\, canvas boards or panels\, recommended size between 8˝x10˝ and 12˝x16˝. I use Centurion Deluxe Professional Oil Primed Linen Canvas Panels. Small (5”x7” or so) surfaces for color thumbnails; can be scrap canvas pieces\, oil paper\, primed watercolor paper or board.\n\n•Brushes: \n\n\nI use Rosemary and Co. brushes. My favorite are Evergreen Short Flat sizes 4-10; Eclipse Fan (1.5-2”\, optional). \n\n\n•Palette \n\n\n•Medium: linseed oil and container for oil \n\n\n•Small sketch book\, graphite or charcoal pencil \n\n\n•Oil paints: \n\n\nFlowers are colorful subjects indeed. I realized that if I start naming all the pigments that could be used for the workshop\, the list would go on and on. I came up with a limited palette which is fun to work with and allows for a full range of bright chromatic colors. It includes: \n\n\n•Quinacridone Rose \n\n\n•Phthalo Turquoise \n\n\n•Cadmium Yellow Lemon \n\n\n•Transparent Oxide Red \n\n\n•Cobalt Blue \n\n\n•Titanium White \n\n\nAdditional colors I like\, all of these are optional: \n\n\n•Cadmium red light \n\n\n•Chinese Orange (Sennelier) \n\n\n•Viridian \n\n\n•Sap Green \n\n\n•Green Gold (MH) \n\n\n•Radiant Turquoise (Gamblin) \n\n\n•Radiant Green (Gamblin) \n\n\n•Amethyst (MH) – or any nice purple or violet \n\n\n Bring your favorite bright pinks\, oranges\, yellows\, purples — or stay within a limited palette. \n\nPAYMENT: \nYou can make the full payment of $490 on site or pay a $100 deposit to Rachael McCampbell and her Art Studio through Venmo. The remaining $390 is due by September 20\, 2024. Here’s the QR code:
URL:https://rachaelmccampbell.com/event/guest-instructor-workshop-series-mccampbell-art-studios/
LOCATION:McCampbell Art Studio\, 208 E. Public Square\, Centerville\, TN\, 37033
CATEGORIES:Guest Artist Workshops
ATTACH;FMTTYPE=image/jpeg:https://rachaelmccampbell.com/wp-content/uploads/2024/09/IMG_6203-755x1024-1.jpeg
END:VEVENT
END:VCALENDAR